BEGIN:VCALENDAR
VERSION:2.0
PRODID:-//Hidden Compass - ECPv6.15.20//NONSGML v1.0//EN
CALSCALE:GREGORIAN
METHOD:PUBLISH
X-ORIGINAL-URL:https://hiddencompass.net
X-WR-CALDESC:Events for Hidden Compass
REFRESH-INTERVAL;VALUE=DURATION:PT1H
X-Robots-Tag:noindex
X-PUBLISHED-TTL:PT1H
BEGIN:VTIMEZONE
TZID:America/Los_Angeles
BEGIN:DAYLIGHT
TZOFFSETFROM:-0800
TZOFFSETTO:-0700
TZNAME:PDT
DTSTART:20240310T100000
END:DAYLIGHT
BEGIN:STANDARD
TZOFFSETFROM:-0700
TZOFFSETTO:-0800
TZNAME:PST
DTSTART:20241103T090000
END:STANDARD
BEGIN:DAYLIGHT
TZOFFSETFROM:-0800
TZOFFSETTO:-0700
TZNAME:PDT
DTSTART:20250309T100000
END:DAYLIGHT
BEGIN:STANDARD
TZOFFSETFROM:-0700
TZOFFSETTO:-0800
TZNAME:PST
DTSTART:20251102T090000
END:STANDARD
BEGIN:DAYLIGHT
TZOFFSETFROM:-0800
TZOFFSETTO:-0700
TZNAME:PDT
DTSTART:20260308T100000
END:DAYLIGHT
BEGIN:STANDARD
TZOFFSETFROM:-0700
TZOFFSETTO:-0800
TZNAME:PST
DTSTART:20261101T090000
END:STANDARD
END:VTIMEZONE
BEGIN:VEVENT
DTSTART;TZID=America/Los_Angeles:20251021T180000
DTEND;TZID=America/Los_Angeles:20251021T191500
DTSTAMP:20260421T093357
CREATED:20251001T171028Z
LAST-MODIFIED:20251001T171029Z
UID:10089-1761069600-1761074100@hiddencompass.net
SUMMARY:2026 Pathfinder Prize Pitch Event
DESCRIPTION:Hidden Compass is proud to present our fourth annual Pathfinder Prize Pitch Event! The 2026 Pathfinder Prize finalist teams will pitch their projects live for a chance to receive an $18\,000 grant to fund a team of curious modern explorers and filmmakers on a cinematic expedition. Our Pathfinders are multimedia storytellers who bring our community behind the scenes in digital dispatches\, and share their expedition through magazine features and a short documentary film that will premiere in a movie theater in California in late 2026. \nKeep reading to learn more about the finalists\, and take note: While the event is free\, registration is required. \n“When the River Stopped Singing” is an investigative expedition to the Himalayas to ask the following questions: How do renewable energy projects\, designed to power a modern world\, collide with communities whose relationship with their landscape spans millennia? What do we sacrifice in pursuit of progress? Nepali journalist and filmmaker Tulsi Rauniyar leads the expedition to go where roads cannot reach. There\, she and the film’s director join members of the Indigenous Bhote Singsa — one of the world’s least documented peoples — to profile a river and community threatened by hydropower and corruption. \n“Stories We Tell” is a filmmaking expedition to flip the script by asking the following question: What if the most powerful stories are those communities tell about themselves? In Hluvukani\, South Africa\, Co-expedition Leader Nkateko Letti Mzimba — a filmmaker and a member of the Black Mambas\, Africa’s first all-female anti-poaching unit — teams up with acclaimed producer and director Beki Henderson to create the first documentary about Hluvukani made by a member of that community. Nkateko’s lens reveals a future where conservation and community are inseparable. \nImmediately following the event\, voting for the Pathfinder Prize will open. Hidden Compass Allies will have until October 31 at noon PT to cast their votes. The winning team will be announced at this year’s Ethos of Exploration event on December 6\, 2025\, at the New Parkway Theater in Oakland\, California — following the global premiere of “The Rebel Reef.” \nYour Potential Expedition Leaders\n \nTulsi Rauniyar would be the expedition leader\, storyteller\, and filmmaker for “When the River Stopped Singing.” \nBeki Henderson would be the expedition co-leader for “Stories We Tell.” \nNkateko Letti Mzimba would be the expedition co-leader and filmmaker for “Stories We Tell.” \n 
URL:https://hiddencompass.net/event/2026-pathfinder-prize-pitch-event/
LOCATION:Virtual
ATTACH;FMTTYPE=image/jpeg:https://hiddencompass.net/wp-content/uploads/2025/10/2026-Pitch-Event.jpg
ORGANIZER;CN="Hidden Compass":MAILTO:events@hiddencompass.net
END:VEVENT
END:VCALENDAR